BEGIN:VCALENDAR
VERSION:2.0
PRODID:-//jEvents 2.0 for Joomla//EN
CALSCALE:GREGORIAN
METHOD:PUBLISH
BEGIN:VTIMEZONE
TZID:Europe/Zurich
BEGIN:STANDARD
DTSTART:20221030T020000
RDATE:20230326T030000
TZOFFSETFROM:+0200
TZOFFSETTO:+0100
TZNAME:Europe/Zurich CET
END:STANDARD
BEGIN:STANDARD
DTSTART:20231029T020000
RDATE:20240331T030000
TZOFFSETFROM:+0200
TZOFFSETTO:+0100
TZNAME:Europe/Zurich CET
END:STANDARD
BEGIN:STANDARD
DTSTART:20241027T020000
RDATE:20250330T030000
TZOFFSETFROM:+0200
TZOFFSETTO:+0100
TZNAME:Europe/Zurich CET
END:STANDARD
BEGIN:STANDARD
DTSTART:20251026T020000
RDATE:20260329T030000
TZOFFSETFROM:+0200
TZOFFSETTO:+0100
TZNAME:Europe/Zurich CET
END:STANDARD
BEGIN:STANDARD
DTSTART:20261025T020000
RDATE:20270328T030000
TZOFFSETFROM:+0200
TZOFFSETTO:+0100
TZNAME:Europe/Zurich CET
END:STANDARD
BEGIN:STANDARD
DTSTART:20271031T020000
RDATE:20280326T030000
TZOFFSETFROM:+0200
TZOFFSETTO:+0100
TZNAME:Europe/Zurich CET
END:STANDARD
BEGIN:STANDARD
DTSTART:20281029T020000
RDATE:20290325T030000
TZOFFSETFROM:+0200
TZOFFSETTO:+0100
TZNAME:Europe/Zurich CET
END:STANDARD
BEGIN:STANDARD
DTSTART:20291028T020000
RDATE:20300331T030000
TZOFFSETFROM:+0200
TZOFFSETTO:+0100
TZNAME:Europe/Zurich CET
END:STANDARD
BEGIN:STANDARD
DTSTART:20301027T020000
RDATE:20310330T030000
TZOFFSETFROM:+0200
TZOFFSETTO:+0100
TZNAME:Europe/Zurich CET
END:STANDARD
BEGIN:STANDARD
DTSTART:20311026T020000
RDATE:20320328T030000
TZOFFSETFROM:+0200
TZOFFSETTO:+0100
TZNAME:Europe/Zurich CET
END:STANDARD
BEGIN:DAYLIGHT
DTSTART:20220904T150000
RDATE:20221030T020000
TZOFFSETFROM:+0100
TZOFFSETTO:+0200
TZNAME:Europe/Zurich CEST
END:DAYLIGHT
BEGIN:DAYLIGHT
DTSTART:20230326T030000
RDATE:20231029T020000
TZOFFSETFROM:+0100
TZOFFSETTO:+0200
TZNAME:Europe/Zurich CEST
END:DAYLIGHT
BEGIN:DAYLIGHT
DTSTART:20240331T030000
RDATE:20241027T020000
TZOFFSETFROM:+0100
TZOFFSETTO:+0200
TZNAME:Europe/Zurich CEST
END:DAYLIGHT
BEGIN:DAYLIGHT
DTSTART:20250330T030000
RDATE:20251026T020000
TZOFFSETFROM:+0100
TZOFFSETTO:+0200
TZNAME:Europe/Zurich CEST
END:DAYLIGHT
BEGIN:DAYLIGHT
DTSTART:20260329T030000
RDATE:20261025T020000
TZOFFSETFROM:+0100
TZOFFSETTO:+0200
TZNAME:Europe/Zurich CEST
END:DAYLIGHT
BEGIN:DAYLIGHT
DTSTART:20270328T030000
RDATE:20271031T020000
TZOFFSETFROM:+0100
TZOFFSETTO:+0200
TZNAME:Europe/Zurich CEST
END:DAYLIGHT
BEGIN:DAYLIGHT
DTSTART:20280326T030000
RDATE:20281029T020000
TZOFFSETFROM:+0100
TZOFFSETTO:+0200
TZNAME:Europe/Zurich CEST
END:DAYLIGHT
BEGIN:DAYLIGHT
DTSTART:20290325T030000
RDATE:20291028T020000
TZOFFSETFROM:+0100
TZOFFSETTO:+0200
TZNAME:Europe/Zurich CEST
END:DAYLIGHT
BEGIN:DAYLIGHT
DTSTART:20300331T030000
RDATE:20301027T020000
TZOFFSETFROM:+0100
TZOFFSETTO:+0200
TZNAME:Europe/Zurich CEST
END:DAYLIGHT
BEGIN:DAYLIGHT
DTSTART:20310330T030000
RDATE:20311026T020000
TZOFFSETFROM:+0100
TZOFFSETTO:+0200
TZNAME:Europe/Zurich CEST
END:DAYLIGHT
END:VTIMEZONE
BEGIN:VEVENT
UID:393ffd2fceab31fe14428613a3973e8e
CATEGORIES:Veranstaltungen
CREATED:20230712T100307
SUMMARY:Herbstanlass: Besichtigung Redaktion und Druckerei CH Media Print AG
LOCATION:Schulstrasse Opfikon (Abfahrt mit Car)
DESCRIPTION:Unser Herbstanlass 2023 führt uns nach Aarau, zu der CH Media Print AG.  \n
 Warum?......, weil dort unsere Bezirkszeitung gedruckt wird. Neben der Besi
 chtigung des Medienhauses und der Druckerei, können wir voraussichtlich dab
 ei sein, wenn die Herbstausgabe unserer BGVB–Zeitung vom Band läuft. Auf de
 r Heimfahrt kann man die Zeitung druckfrisch lesen.\nEin Blick hinter die K
 ulissen einer grossen Zeitungsdruckerei ist sicher interessant und lehrreic
 h.\nEr wird unseren Blick auf die Zeitungsmedien schärfen und unseren Horiz
 ont zur schweizerischen Medienlandschaft erweitern.\n
X-ALT-DESC;FMTTYPE=text/html:<p>Unser Herbstanlass 2023 führt uns nach Aarau, zu der CH Media Print AG. 
  </p><p><strong>Warum?</strong>......, weil dort unsere Bezirkszeitung gedr
 uckt wird. Neben der Besichtigung des Medienhauses und der Druckerei, könne
 n wir voraussichtlich dabei sein, wenn die Herbstausgabe unserer BGVB–Zeitu
 ng vom Band läuft. Auf der Heimfahrt kann man die Zeitung druckfrisch lesen
 .<br />Ein Blick hinter die Kulissen einer grossen Zeitungsdruckerei ist si
 cher interessant und lehrreich.<br />Er wird unseren Blick auf die Zeitungs
 medien schärfen und unseren Horizont zur schweizerischen Medienlandschaft e
 rweitern.</p>
DTSTAMP:20260420T114152
DTSTART;TZID=Europe/Zurich:20230905T150000
DTEND;TZID=Europe/Zurich:20230905T213000
SEQUENCE:0
TRANSP:OPAQUE
END:VEVENT
END:VCALENDAR