BEGIN:VCALENDAR
VERSION:2.0
PRODID:-//jEvents 2.0 for Joomla//EN
CALSCALE:GREGORIAN
METHOD:PUBLISH
BEGIN:VTIMEZONE
TZID:Europe/Zurich
BEGIN:STANDARD
DTSTART:20241027T020000
RDATE:20250330T030000
TZOFFSETFROM:+0200
TZOFFSETTO:+0100
TZNAME:Europe/Zurich CET
END:STANDARD
BEGIN:STANDARD
DTSTART:20251026T020000
RDATE:20260329T030000
TZOFFSETFROM:+0200
TZOFFSETTO:+0100
TZNAME:Europe/Zurich CET
END:STANDARD
BEGIN:STANDARD
DTSTART:20261025T020000
RDATE:20270328T030000
TZOFFSETFROM:+0200
TZOFFSETTO:+0100
TZNAME:Europe/Zurich CET
END:STANDARD
BEGIN:STANDARD
DTSTART:20271031T020000
RDATE:20280326T030000
TZOFFSETFROM:+0200
TZOFFSETTO:+0100
TZNAME:Europe/Zurich CET
END:STANDARD
BEGIN:STANDARD
DTSTART:20281029T020000
RDATE:20290325T030000
TZOFFSETFROM:+0200
TZOFFSETTO:+0100
TZNAME:Europe/Zurich CET
END:STANDARD
BEGIN:STANDARD
DTSTART:20291028T020000
RDATE:20300331T030000
TZOFFSETFROM:+0200
TZOFFSETTO:+0100
TZNAME:Europe/Zurich CET
END:STANDARD
BEGIN:STANDARD
DTSTART:20301027T020000
RDATE:20310330T030000
TZOFFSETFROM:+0200
TZOFFSETTO:+0100
TZNAME:Europe/Zurich CET
END:STANDARD
BEGIN:STANDARD
DTSTART:20311026T020000
RDATE:20320328T030000
TZOFFSETFROM:+0200
TZOFFSETTO:+0100
TZNAME:Europe/Zurich CET
END:STANDARD
BEGIN:DAYLIGHT
DTSTART:20240822T110000
RDATE:20241027T020000
TZOFFSETFROM:+0100
TZOFFSETTO:+0200
TZNAME:Europe/Zurich CEST
END:DAYLIGHT
BEGIN:DAYLIGHT
DTSTART:20250330T030000
RDATE:20251026T020000
TZOFFSETFROM:+0100
TZOFFSETTO:+0200
TZNAME:Europe/Zurich CEST
END:DAYLIGHT
BEGIN:DAYLIGHT
DTSTART:20260329T030000
RDATE:20261025T020000
TZOFFSETFROM:+0100
TZOFFSETTO:+0200
TZNAME:Europe/Zurich CEST
END:DAYLIGHT
BEGIN:DAYLIGHT
DTSTART:20270328T030000
RDATE:20271031T020000
TZOFFSETFROM:+0100
TZOFFSETTO:+0200
TZNAME:Europe/Zurich CEST
END:DAYLIGHT
BEGIN:DAYLIGHT
DTSTART:20280326T030000
RDATE:20281029T020000
TZOFFSETFROM:+0100
TZOFFSETTO:+0200
TZNAME:Europe/Zurich CEST
END:DAYLIGHT
BEGIN:DAYLIGHT
DTSTART:20290325T030000
RDATE:20291028T020000
TZOFFSETFROM:+0100
TZOFFSETTO:+0200
TZNAME:Europe/Zurich CEST
END:DAYLIGHT
BEGIN:DAYLIGHT
DTSTART:20300331T030000
RDATE:20301027T020000
TZOFFSETFROM:+0100
TZOFFSETTO:+0200
TZNAME:Europe/Zurich CEST
END:DAYLIGHT
BEGIN:DAYLIGHT
DTSTART:20310330T030000
RDATE:20311026T020000
TZOFFSETFROM:+0100
TZOFFSETTO:+0200
TZNAME:Europe/Zurich CEST
END:DAYLIGHT
END:VTIMEZONE
BEGIN:VEVENT
UID:ed09ec8f8d08216392baa30a8175674a
CATEGORIES:Veranstaltungen Mitglieder
CREATED:20250604T062422
SUMMARY:Dorfmarkt Dietlikon
LOCATION:Dietlikon
DESCRIPTION:Am Samstag, 23. August 2025 findet, nach der letztjährigen Pause (900-Jahre
  Dietlikon), wieder ein Dietliker Dorfmarkt statt\nDetails unter https://ww
 w.linkedin.com/pulse/bist-du-ein-dorfm%25C3%25A4rktler-gid-dietlikon-vct9f 
 (https://www.linkedin.com/pulse/bist-du-ein-dorfm%25C3%25A4rktler-gid-dietl
 ikon-vct9f)\n \n
X-ALT-DESC;FMTTYPE=text/html:<p><span style="font-size: 12.0pt; font-family: 'ITCFranklinGothicStd-Med',
 serif; mso-fareast-font-family: 'Times New Roman'; mso-bidi-font-family: Ca
 libri; color: black; mso-ansi-language: DE-CH; mso-fareast-language: DE-CH;
  mso-bidi-language: AR-SA;">Am Samstag, 23. August 2025 findet, nach der le
 tztjährigen Pause (900-Jahre Dietlikon), wieder ein Dietliker Dorfmarkt sta
 tt<br />Details unter </span><span style="font-size: 12.0pt; font-family: '
 ITCFranklinGothicStd-Med',serif; mso-fareast-font-family: 'Times New Roman'
 ; color: black;"><a href="https://www.linkedin.com/pulse/bist-du-ein-dorfm%
 25C3%25A4rktler-gid-dietlikon-vct9f" target="_blank" rel="noopener">https:/
 /www.linkedin.com/pulse/bist-du-ein-dorfm%25C3%25A4rktler-gid-dietlikon-vct
 9f</a></span></p><p> </p>
DTSTAMP:20260420T114149
DTSTART;TZID=Europe/Zurich:20250823T110000
DTEND;TZID=Europe/Zurich:20250823T180000
SEQUENCE:0
TRANSP:OPAQUE
END:VEVENT
END:VCALENDAR